BEGIN:VCALENDAR
VERSION:2.0
PRODID:-//jEvents 2.0 for Joomla//EN
CALSCALE:GREGORIAN
METHOD:PUBLISH
BEGIN:VEVENT
UID:586921a59c17df4e4ff27bf15852be4a
CATEGORIES:Öffentlich
CREATED:20240302T104459
SUMMARY:Trail
DESCRIPTION:
DTSTAMP:20260424T190804
DTSTART:20240420T060000
DTEND:20240421T150000
SEQUENCE:0
TRANSP:OPAQUE
END:VEVENT
END:VCALENDAR